BEGIN:VCALENDAR
VERSION:2.0
PRODID:-//Wine School of Philadelphia - ECPv6.15.20//NONSGML v1.0//EN
CALSCALE:GREGORIAN
METHOD:PUBLISH
X-WR-CALNAME:Wine School of Philadelphia
X-ORIGINAL-URL:https://www.vinology.com
X-WR-CALDESC:Events for Wine School of Philadelphia
REFRESH-INTERVAL;VALUE=DURATION:PT1H
X-Robots-Tag:noindex
X-PUBLISHED-TTL:PT1H
BEGIN:VTIMEZONE
TZID:America/New_York
BEGIN:DAYLIGHT
TZOFFSETFROM:-0500
TZOFFSETTO:-0400
TZNAME:EDT
DTSTART:20250309T070000
END:DAYLIGHT
BEGIN:STANDARD
TZOFFSETFROM:-0400
TZOFFSETTO:-0500
TZNAME:EST
DTSTART:20251102T060000
END:STANDARD
BEGIN:DAYLIGHT
TZOFFSETFROM:-0500
TZOFFSETTO:-0400
TZNAME:EDT
DTSTART:20260308T070000
END:DAYLIGHT
BEGIN:STANDARD
TZOFFSETFROM:-0400
TZOFFSETTO:-0500
TZNAME:EST
DTSTART:20261101T060000
END:STANDARD
BEGIN:DAYLIGHT
TZOFFSETFROM:-0500
TZOFFSETTO:-0400
TZNAME:EDT
DTSTART:20270314T070000
END:DAYLIGHT
BEGIN:STANDARD
TZOFFSETFROM:-0400
TZOFFSETTO:-0500
TZNAME:EST
DTSTART:20271107T060000
END:STANDARD
END:VTIMEZONE
BEGIN:VEVENT
DTSTART;TZID=America/New_York:20260419T133000
DTEND;TZID=America/New_York:20260419T180000
DTSTAMP:20260421T051613
CREATED:20260116T021057Z
LAST-MODIFIED:20260116T021057Z
UID:10001539-1776605400-1776621600@www.vinology.com
SUMMARY:Core Sommelier
DESCRIPTION:Core Sommelier Course — Spring Semester
URL:https://www.vinology.com/class/core-sommelier/2026-04-19/
LOCATION:Philly Beer School\, 109 S. 22nd Street\, Philadelphia\, PA\, 19103\, United States
ORGANIZER;CN="Wine School of Philadelphia":MAILTO:wsop@vinology.com
GEO:39.952073;-75.176908
X-APPLE-STRUCTURED-LOCATION;VALUE=URI;X-ADDRESS=Philly Beer School 109 S. 22nd Street Philadelphia PA 19103 United States;X-APPLE-RADIUS=500;X-TITLE=109 S. 22nd Street:geo:-75.176908,39.952073
END:VEVENT
END:VCALENDAR